
BEGIN:VCALENDAR
VERSION:2.0
PRODID:-//The Adam Bojelian Foundation CIC (AdsFoundation) - ECPv6.15.11//NONSGML v1.0//EN
CALSCALE:GREGORIAN
METHOD:PUBLISH
X-ORIGINAL-URL:https://theadsfoundation.org
X-WR-CALDESC:Events for The Adam Bojelian Foundation CIC (AdsFoundation)
REFRESH-INTERVAL;VALUE=DURATION:PT1H
X-Robots-Tag:noindex
X-PUBLISHED-TTL:PT1H
BEGIN:VTIMEZONE
TZID:Europe/London
BEGIN:DAYLIGHT
TZOFFSETFROM:+0000
TZOFFSETTO:+0100
TZNAME:BST
DTSTART:20150329T010000
END:DAYLIGHT
BEGIN:STANDARD
TZOFFSETFROM:+0100
TZOFFSETTO:+0000
TZNAME:GMT
DTSTART:20151025T010000
END:STANDARD
BEGIN:DAYLIGHT
TZOFFSETFROM:+0000
TZOFFSETTO:+0100
TZNAME:BST
DTSTART:20160327T010000
END:DAYLIGHT
BEGIN:STANDARD
TZOFFSETFROM:+0100
TZOFFSETTO:+0000
TZNAME:GMT
DTSTART:20161030T010000
END:STANDARD
BEGIN:DAYLIGHT
TZOFFSETFROM:+0000
TZOFFSETTO:+0100
TZNAME:BST
DTSTART:20170326T010000
END:DAYLIGHT
BEGIN:STANDARD
TZOFFSETFROM:+0100
TZOFFSETTO:+0000
TZNAME:GMT
DTSTART:20171029T010000
END:STANDARD
END:VTIMEZONE
BEGIN:VEVENT
DTSTART;TZID=Europe/London:20160324T120000
DTEND;TZID=Europe/London:20160324T150000
DTSTAMP:20260424T210808
CREATED:20210215T104955Z
LAST-MODIFIED:20210215T141439Z
UID:311-1458820800-1458831600@theadsfoundation.org
SUMMARY:The First Adam Bojelian Memorial Talk: Together We Can Achieve Great Things by Kath Evans
DESCRIPTION:  \n \nThursday 24th March\, 2016\, Leeds\, UK \nThe first Adam Bojelian Memorial Talk ‘Together We Can Achieve Great Things’ was given by Kath Evans\, children’s nurse and NHS England’s Patient Experience Lead. It was chaired by Gill Phillips and held in Leeds\, hosted by NHS Confederation and NHS Employers. \nYou can hear Kath’s AdsTalk and the discussion which followed by clicking on this link: \nTogether We Can Achieve Great Things by Kath Evans \nOne you have watched Kath’s AdsTalk do feel free to continue the discussion in the comments below. \n 
URL:https://theadsfoundation.org/event/the-first-adam-bojelian-memorial-talk-together-we-can-achieve-great-things-by-kath-evans/
LOCATION:LS10 1JR\, Horizon Leeds\, Leeds\, West Yorkshire\, LS10 1JR\, United Kingdom
CATEGORIES:ADS Talks,Past Events
ORGANIZER;CN="The ADSFoundation":MAILTO:contact@theadsfoundation.org
END:VEVENT
END:VCALENDAR